BEGIN:VCALENDAR
VERSION:2.0
PRODID:icalendar-ruby
CALSCALE:GREGORIAN
METHOD:PUBLISH
BEGIN:VEVENT
DTSTAMP:20260423T111428Z
UID:84-390179@fumcsalisbury.org
DTSTART:20260515T110000Z
DTEND:20260515T130000Z
CLASS:PUBLIC
CREATED:20260420T123108
DESCRIPTION:
LAST-MODIFIED:20260420T123108
LOCATION:226 N. Long Street\, Salisbury NC
SUMMARY:Breakfast at Rowan Helping Ministries
URL;VALUE=URI:https://fumcsalisbury.org/events/breakfast-at-rowan-helping-m
 inistries--84/2026-05-15
ATTACH;FILENAME=Breakfast-at-RHM_20260121_111340_0000.png;FMTTYPE=image/png
 :https://dq5pwpg1q8ru0.cloudfront.net/2026/04/20/16/31/07/15e1257c-705a-44
 52-851e-1a4efe60cde2/Breakfast-at-RHM_20260121_111340_0000.png
END:VEVENT
END:VCALENDAR
