BEGIN:VCALENDAR
VERSION:2.0
PRODID:icalendar-ruby
CALSCALE:GREGORIAN
METHOD:PUBLISH
BEGIN:VEVENT
DTSTAMP:20260424T133847Z
UID:85-390180@fumcsalisbury.org
DTSTART:20260516T140000Z
DTEND:20260516T180000Z
CLASS:PUBLIC
CREATED:20260420T123643
DESCRIPTION:
LAST-MODIFIED:20260420T123643
LOCATION:217 S. Church Street\, Salisbury NC 28144
SUMMARY:Cheerwine Festival
URL;VALUE=URI:https://fumcsalisbury.org/events/cheerwine-festival/2026-05-1
 6
ATTACH;FILENAME=Cheerwine.png;FMTTYPE=image/png:https://dq5pwpg1q8ru0.cloud
 front.net/2026/04/20/16/36/43/c63c16b0-da6c-4def-8819-b6a0534b6a99/Cheerwi
 ne.png
END:VEVENT
END:VCALENDAR
